BEGIN:VCALENDAR
VERSION:2.0
PRODID:-//Indiana Electric Cooperatives - ECPv6.15.20//NONSGML v1.0//EN
CALSCALE:GREGORIAN
METHOD:PUBLISH
X-WR-CALNAME:Indiana Electric Cooperatives
X-ORIGINAL-URL:https://www.indianaec.org
X-WR-CALDESC:Events for Indiana Electric Cooperatives
REFRESH-INTERVAL;VALUE=DURATION:PT1H
X-Robots-Tag:noindex
X-PUBLISHED-TTL:PT1H
BEGIN:VTIMEZONE
TZID:America/Indiana/Indianapolis
BEGIN:DAYLIGHT
TZOFFSETFROM:-0500
TZOFFSETTO:-0400
TZNAME:EDT
DTSTART:20250309T070000
END:DAYLIGHT
BEGIN:STANDARD
TZOFFSETFROM:-0400
TZOFFSETTO:-0500
TZNAME:EST
DTSTART:20251102T060000
END:STANDARD
BEGIN:DAYLIGHT
TZOFFSETFROM:-0500
TZOFFSETTO:-0400
TZNAME:EDT
DTSTART:20260308T070000
END:DAYLIGHT
BEGIN:STANDARD
TZOFFSETFROM:-0400
TZOFFSETTO:-0500
TZNAME:EST
DTSTART:20261101T060000
END:STANDARD
BEGIN:DAYLIGHT
TZOFFSETFROM:-0500
TZOFFSETTO:-0400
TZNAME:EDT
DTSTART:20270314T070000
END:DAYLIGHT
BEGIN:STANDARD
TZOFFSETFROM:-0400
TZOFFSETTO:-0500
TZNAME:EST
DTSTART:20271107T060000
END:STANDARD
END:VTIMEZONE
BEGIN:VEVENT
DTSTART;VALUE=DATE:20260420
DTEND;VALUE=DATE:20260422
DTSTAMP:20260420T014959
CREATED:20260129T153732Z
LAST-MODIFIED:20260129T153732Z
UID:48937-1776643200-1776815999@www.indianaec.org
SUMMARY:Accountants and Office Managers Professional Section Meeting
DESCRIPTION:MEETING HIGHLIGHTS \n\n\n\n\n\n\n\n\n\n\n\nMonday\, April 20 7:30 AM –  5 PM \n\nEconomic Update\nW-2 / 1099 Update\nLegislative Update and Legislator Visit\nArtificial Intelligence (AI)\nDepreciation Study\nTour of the Derby Museum\nEvening Networking Reception at Embassy Suites\n\n\n\n\n\n\n\n\n\n\n\n\n\n\n\n\n\n\n\n\nTuesday\, April 21 7:30 AM – Noon \n\nChanges in the Workplace & Personality Training\n\n\n\n\n\n\n\n\n\n\n\n\n\nREGISTRATION AND PAYMENT INFORMATION \nPlease return your completed registration form no later than March 30 to Austin Ricks at aricks@kyelectric.coop. Download the form here. \nPayment deadline: April 10. Payment may be made by check or credit card. \nCheck:\nATTN: Austin Ricks\nKentucky Electric Cooperatives\nP.O. Box 32170\nLouisville\, KY 40232 \nCredit Card:\nhttps://kyelectric.coop/payments/ \nIf paying by credit card\, please email Austin a copy of your receipt for confirmation.\nFor PO #\, please use: “Spring Accounting Meeting.” \nHOTEL INFORMATION \nEmbassy Suites by Hilton Louisville East\n9940 Corporate Campus Dr.\nLouisville\, KY 40223 \nRoom Rate: $137/night\nGroup Name: KEC Accounting Meeting\nCutoff Date: March 30 \nHotel Booking Link: KEC Accounting Booking
URL:https://www.indianaec.org/event/accountants-and-office-managers-professional-section-meeting/
LOCATION:Kentucky Electric Cooperatives\, 1630 Lyndon Farm Ct\, Ste 200\, Louisville\, KY\, 40223\, United States
END:VEVENT
END:VCALENDAR